BEGIN:VCALENDAR
VERSION:2.0
PRODID:-//wp-events-plugin.com//7.2.3.1//EN
TZID:Europe/Helsinki
X-WR-TIMEZONE:Europe/Helsinki
BEGIN:VEVENT
UID:13@nordicmetsoc.org
DTSTART;TZID=Europe/Oslo:20260520T090000
DTEND;TZID=Europe/Oslo:20260521T160000
DTSTAMP:20260310T190135Z
URL:https://nordicmetsoc.org/events/shedding-light-on-the-dark-metabolome-
 and-its-clinical-potential/
SUMMARY:Shedding Light on the Dark Metabolome and Its Clinical Potential
DESCRIPTION:Shedding Light on the Dark Metabolome and Its Clinical Potentia
 l
LOCATION:LOSBY GODS\, LOSBY GODS\, Oslo\, Norway
X-APPLE-STRUCTURED-LOCATION;VALUE=URI;X-ADDRESS=LOSBY GODS\, Oslo\, Norway;
 X-APPLE-RADIUS=100;X-TITLE=LOSBY GODS:geo:0,0
END:VEVENT
BEGIN:VTIMEZONE
TZID:Europe/Oslo
X-LIC-LOCATION:Europe/Oslo
BEGIN:DAYLIGHT
DTSTART:20260329T030000
TZOFFSETFROM:+0100
TZOFFSETTO:+0200
TZNAME:CEST
END:DAYLIGHT
END:VTIMEZONE
END:VCALENDAR